BEGIN:VCALENDAR
VERSION:2.0
PRODID:-//Department of Safety Eastern Cape - ECPv4.7.4//NONSGML v1.0//EN
CALSCALE:GREGORIAN
METHOD:PUBLISH
X-WR-CALNAME:Department of Safety Eastern Cape
X-ORIGINAL-URL:http://www.safetyec.gov.za
X-WR-CALDESC:Events for Department of Safety Eastern Cape
BEGIN:VEVENT
DTSTART;TZID=UTC+0:20210329T080000
DTEND;TZID=UTC+0:20210330T170000
DTSTAMP:20210502T085939
CREATED:20210326T140931Z
LAST-MODIFIED:20210326T140931Z
UID:1232-1617004800-1617123600@www.safetyec.gov.za
SUMMARY:MEC WEZIWE TIKANA-GXOTHIWE WILL BE HANDING OVER SPORTS KITS IN TANDERGATEGATE.
DESCRIPTION:
URL:http://www.safetyec.gov.za/event/mec-weziwe-tikana-gxothiwe-will-be-handing-over-sports-kits-in-tandergategate/
LOCATION:TENDERGATE\, Chris Hani District\, Queenstown\, Eastern Cape\, 5600\, South Africa
ORGANIZER;CN="Mncedisi%20Boma":MAILTO:mncedisi.boma@safetyec.gov.za
END:VEVENT
END:VCALENDAR